Package: peakPantheR Version: 1.14.0 Command: /home/biocbuild/bbs-3.17-bioc/R/bin/R CMD build --keep-empty-dirs --no-resave-data peakPantheR StartedAt: 2023-10-15 17:55:29 -0400 (Sun, 15 Oct 2023) EndedAt: 2023-10-15 17:57:23 -0400 (Sun, 15 Oct 2023) EllapsedTime: 113.5 seconds RetCode: 0 Status: OK PackageFile: peakPantheR_1.14.0.tar.gz PackageFileSize: 3.932 MiB