Package: peakPantheR Version: 1.14.0 Command: /Library/Frameworks/R.framework/Resources/bin/R CMD INSTALL peakPantheR StartedAt: 2023-10-15 15:49:32 -0400 (Sun, 15 Oct 2023) EndedAt: 2023-10-15 15:50:08 -0400 (Sun, 15 Oct 2023) EllapsedTime: 35.8 seconds RetCode: 0 Status: OK