Package: peakPantheR Version: 1.14.0 Command: /Library/Frameworks/R.framework/Resources/bin/R CMD check --install=check:peakPantheR.install-out.txt --library=/Library/Frameworks/R.framework/Resources/library --no-vignettes --timings peakPantheR_1.14.0.tar.gz StartedAt: 2023-10-16 05:10:13 -0400 (Mon, 16 Oct 2023) EndedAt: 2023-10-16 05:41:42 -0400 (Mon, 16 Oct 2023) EllapsedTime: 1889.6 seconds RetCode: 0 Status: OK CheckDir: peakPantheR.Rcheck Warnings: 0