Package: peakPantheR Version: 1.14.0 Command: /Library/Frameworks/R.framework/Resources/bin/R CMD build --keep-empty-dirs --no-resave-data peakPantheR StartedAt: 2023-10-15 20:12:27 -0400 (Sun, 15 Oct 2023) EndedAt: 2023-10-15 20:15:33 -0400 (Sun, 15 Oct 2023) EllapsedTime: 186.9 seconds RetCode: 0 Status: OK PackageFile: peakPantheR_1.14.0.tar.gz PackageFileSize: 3.935 MiB