Package: peakPantheR Version: 1.14.0 Command: rm -rf peakPantheR.buildbin-libdir && mkdir peakPantheR.buildbin-libdir && /Users/biocbuild/BBS/utils/build-universal.sh peakPantheR_1.14.0.tar.gz /Library/Frameworks/R.framework/Resources/bin/R peakPantheR.buildbin-libdir StartedAt: 2023-10-16 09:54:32 -0400 (Mon, 16 Oct 2023) EndedAt: 2023-10-16 09:55:17 -0400 (Mon, 16 Oct 2023) EllapsedTime: 44.8 seconds RetCode: 0 Status: OK PackageFile: peakPantheR_1.14.0.tgz PackageFileSize: 4.308 MiB