Package: pdInfoBuilder Version: 1.64.0 Command: /home/biocbuild/bbs-3.17-bioc/R/bin/R CMD check --install=check:pdInfoBuilder.install-out.txt --library=/home/biocbuild/bbs-3.17-bioc/R/site-library --timings pdInfoBuilder_1.64.0.tar.gz StartedAt: 2023-10-15 23:48:19 -0400 (Sun, 15 Oct 2023) EndedAt: 2023-10-15 23:51:42 -0400 (Sun, 15 Oct 2023) EllapsedTime: 202.7 seconds RetCode: 0 Status: OK CheckDir: pdInfoBuilder.Rcheck Warnings: 0