Package: pdInfoBuilder Version: 1.64.0 Command: /home/biocbuild/bbs-3.17-bioc/R/bin/R CMD build --keep-empty-dirs --no-resave-data pdInfoBuilder StartedAt: 2023-10-15 17:55:21 -0400 (Sun, 15 Oct 2023) EndedAt: 2023-10-15 17:56:05 -0400 (Sun, 15 Oct 2023) EllapsedTime: 44.3 seconds RetCode: 0 Status: OK PackageFile: pdInfoBuilder_1.64.0.tar.gz PackageFileSize: 347.5 KiB