Package: pcxn Version: 2.22.0 Command: chmod a+r pcxn -R && F:\biocbuild\bbs-3.17-bioc\R\bin\R.exe CMD build --keep-empty-dirs --no-resave-data pcxn StartedAt: 2023-10-15 21:16:39 -0400 (Sun, 15 Oct 2023) EndedAt: 2023-10-15 21:17:04 -0400 (Sun, 15 Oct 2023) EllapsedTime: 24.9 seconds RetCode: 0 Status: OK PackageFile: pcxn_2.22.0.tar.gz PackageFileSize: 70.14 KiB