Package: pcxn Version: 2.22.0 Command: /home/biocbuild/bbs-3.17-bioc/R/bin/R CMD check --install=check:pcxn.install-out.txt --library=/home/biocbuild/bbs-3.17-bioc/R/site-library --timings pcxn_2.22.0.tar.gz StartedAt: 2023-10-15 23:48:02 -0400 (Sun, 15 Oct 2023) EndedAt: 2023-10-15 23:49:35 -0400 (Sun, 15 Oct 2023) EllapsedTime: 92.8 seconds RetCode: 0 Status: OK CheckDir: pcxn.Rcheck Warnings: 0