Package: pcxn Version: 2.22.0 Command: /home/biocbuild/bbs-3.17-bioc/R/bin/R CMD build --keep-empty-dirs --no-resave-data pcxn StartedAt: 2023-10-15 17:54:51 -0400 (Sun, 15 Oct 2023) EndedAt: 2023-10-15 17:55:20 -0400 (Sun, 15 Oct 2023) EllapsedTime: 29.6 seconds RetCode: 0 Status: OK PackageFile: pcxn_2.22.0.tar.gz PackageFileSize: 68.73 KiB