Package: pcaMethods Version: 1.92.0 Command: chmod a+r pcaMethods -R && F:\biocbuild\bbs-3.17-bioc\R\bin\R.exe CMD build --keep-empty-dirs --no-resave-data pcaMethods StartedAt: 2023-10-15 21:16:01 -0400 (Sun, 15 Oct 2023) EndedAt: 2023-10-15 21:18:22 -0400 (Sun, 15 Oct 2023) EllapsedTime: 140.9 seconds RetCode: 0 Status: OK PackageFile: pcaMethods_1.92.0.tar.gz PackageFileSize: 605.3 KiB