Package: pcaMethods Version: 1.92.0 Command: rm -rf pcaMethods.buildbin-libdir && mkdir pcaMethods.buildbin-libdir && F:\biocbuild\bbs-3.17-bioc\R\bin\R.exe CMD INSTALL --build --library=pcaMethods.buildbin-libdir pcaMethods_1.92.0.tar.gz StartedAt: 2023-10-16 09:14:46 -0400 (Mon, 16 Oct 2023) EndedAt: 2023-10-16 09:15:29 -0400 (Mon, 16 Oct 2023) EllapsedTime: 43.0 seconds RetCode: 0 Status: OK PackageFile: pcaMethods_1.92.0.zip PackageFileSize: 1.35 MiB