Package: pcaMethods Version: 1.92.0 Command: /home/biocbuild/bbs-3.17-bioc/R/bin/R CMD check --install=check:pcaMethods.install-out.txt --library=/home/biocbuild/bbs-3.17-bioc/R/site-library --timings pcaMethods_1.92.0.tar.gz StartedAt: 2023-10-15 23:45:53 -0400 (Sun, 15 Oct 2023) EndedAt: 2023-10-15 23:52:09 -0400 (Sun, 15 Oct 2023) EllapsedTime: 376.0 seconds RetCode: 0 Status: OK CheckDir: pcaMethods.Rcheck Warnings: 0