Package: pcaMethods Version: 1.92.0 Command: /home/biocbuild/bbs-3.17-bioc/R/bin/R CMD build --keep-empty-dirs --no-resave-data pcaMethods StartedAt: 2023-10-15 17:54:34 -0400 (Sun, 15 Oct 2023) EndedAt: 2023-10-15 17:57:03 -0400 (Sun, 15 Oct 2023) EllapsedTime: 149.0 seconds RetCode: 0 Status: OK PackageFile: pcaMethods_1.92.0.tar.gz PackageFileSize: 598.5 KiB