Package: pcaExplorer Version: 2.26.1 Command: F:\biocbuild\bbs-3.17-bioc\R\bin\R.exe CMD INSTALL pcaExplorer StartedAt: 2023-10-15 16:49:48 -0400 (Sun, 15 Oct 2023) EndedAt: 2023-10-15 16:50:38 -0400 (Sun, 15 Oct 2023) EllapsedTime: 49.9 seconds RetCode: 0 Status: OK