Package: pcaExplorer Version: 2.26.1 Command: F:\biocbuild\bbs-3.17-bioc\R\bin\R.exe CMD check --no-multiarch --install=check:pcaExplorer.install-out.txt --library=F:\biocbuild\bbs-3.17-bioc\R\library --no-vignettes --timings pcaExplorer_2.26.1.tar.gz StartedAt: 2023-10-16 05:09:56 -0400 (Mon, 16 Oct 2023) EndedAt: 2023-10-16 05:16:05 -0400 (Mon, 16 Oct 2023) EllapsedTime: 369.0 seconds RetCode: 0 Status: OK CheckDir: pcaExplorer.Rcheck Warnings: 0