Package: pcaExplorer Version: 2.26.1 Command: chmod a+r pcaExplorer -R && F:\biocbuild\bbs-3.17-bioc\R\bin\R.exe CMD build --keep-empty-dirs --no-resave-data pcaExplorer StartedAt: 2023-10-15 21:15:46 -0400 (Sun, 15 Oct 2023) EndedAt: 2023-10-15 21:18:14 -0400 (Sun, 15 Oct 2023) EllapsedTime: 147.7 seconds RetCode: 0 Status: OK PackageFile: pcaExplorer_2.26.1.tar.gz PackageFileSize: 21.26 MiB