Package: pcaExplorer Version: 2.26.1 Command: rm -rf pcaExplorer.buildbin-libdir && mkdir pcaExplorer.buildbin-libdir && F:\biocbuild\bbs-3.17-bioc\R\bin\R.exe CMD INSTALL --build --library=pcaExplorer.buildbin-libdir pcaExplorer_2.26.1.tar.gz StartedAt: 2023-10-16 09:14:44 -0400 (Mon, 16 Oct 2023) EndedAt: 2023-10-16 09:15:41 -0400 (Mon, 16 Oct 2023) EllapsedTime: 56.7 seconds RetCode: 0 Status: OK PackageFile: pcaExplorer_2.26.1.zip PackageFileSize: 13.2 MiB