Package: pcaExplorer Version: 2.26.1 Command: /home/biocbuild/bbs-3.17-bioc/R/bin/R CMD check --install=check:pcaExplorer.install-out.txt --library=/home/biocbuild/bbs-3.17-bioc/R/site-library --timings pcaExplorer_2.26.1.tar.gz StartedAt: 2023-10-15 23:45:26 -0400 (Sun, 15 Oct 2023) EndedAt: 2023-10-15 23:54:10 -0400 (Sun, 15 Oct 2023) EllapsedTime: 524.4 seconds RetCode: 0 Status: OK CheckDir: pcaExplorer.Rcheck Warnings: 0