Package: pcaExplorer Version: 2.26.1 Command: /Library/Frameworks/R.framework/Resources/bin/R CMD INSTALL pcaExplorer StartedAt: 2023-10-15 16:14:22 -0400 (Sun, 15 Oct 2023) EndedAt: 2023-10-15 16:16:35 -0400 (Sun, 15 Oct 2023) EllapsedTime: 133.3 seconds RetCode: 0 Status: OK