Package: pcaExplorer Version: 2.26.1 Command: /Library/Frameworks/R.framework/Resources/bin/R CMD check --install=check:pcaExplorer.install-out.txt --library=/Library/Frameworks/R.framework/Resources/library --no-vignettes --timings pcaExplorer_2.26.1.tar.gz StartedAt: 2023-10-16 05:08:33 -0400 (Mon, 16 Oct 2023) EndedAt: 2023-10-16 05:23:53 -0400 (Mon, 16 Oct 2023) EllapsedTime: 919.9 seconds RetCode: 0 Status: OK CheckDir: pcaExplorer.Rcheck Warnings: 0