Package: pcaExplorer Version: 2.26.1 Command: /Library/Frameworks/R.framework/Resources/bin/R CMD build --keep-empty-dirs --no-resave-data pcaExplorer StartedAt: 2023-10-15 20:10:41 -0400 (Sun, 15 Oct 2023) EndedAt: 2023-10-15 20:15:57 -0400 (Sun, 15 Oct 2023) EllapsedTime: 315.6 seconds RetCode: 0 Status: OK PackageFile: pcaExplorer_2.26.1.tar.gz PackageFileSize: 22.27 MiB