Package: paxtoolsr Version: 1.34.0 Command: /home/biocbuild/bbs-3.17-bioc/R/bin/R CMD check --install=check:paxtoolsr.install-out.txt --library=/home/biocbuild/bbs-3.17-bioc/R/site-library --timings paxtoolsr_1.34.0.tar.gz StartedAt: 2023-10-15 23:44:51 -0400 (Sun, 15 Oct 2023) EndedAt: 2023-10-15 23:49:12 -0400 (Sun, 15 Oct 2023) EllapsedTime: 261.2 seconds RetCode: 0 Status: OK CheckDir: paxtoolsr.Rcheck Warnings: 0