Package: paxtoolsr Version: 1.34.0 Command: /home/biocbuild/bbs-3.17-bioc/R/bin/R CMD build --keep-empty-dirs --no-resave-data paxtoolsr StartedAt: 2023-10-15 17:53:54 -0400 (Sun, 15 Oct 2023) EndedAt: 2023-10-15 17:55:19 -0400 (Sun, 15 Oct 2023) EllapsedTime: 85.0 seconds RetCode: 0 Status: OK PackageFile: paxtoolsr_1.34.0.tar.gz PackageFileSize: 25.35 MiB