Package: paxtoolsr Version: 1.34.0 Command: /Library/Frameworks/R.framework/Resources/bin/R CMD INSTALL paxtoolsr StartedAt: 2023-10-15 15:10:18 -0400 (Sun, 15 Oct 2023) EndedAt: 2023-10-15 15:11:02 -0400 (Sun, 15 Oct 2023) EllapsedTime: 44.0 seconds RetCode: 0 Status: OK