Package: paxtoolsr Version: 1.34.0 Command: /Library/Frameworks/R.framework/Resources/bin/R CMD build --keep-empty-dirs --no-resave-data paxtoolsr StartedAt: 2023-10-15 20:10:22 -0400 (Sun, 15 Oct 2023) EndedAt: 2023-10-15 20:12:23 -0400 (Sun, 15 Oct 2023) EllapsedTime: 121.3 seconds RetCode: 0 Status: OK PackageFile: paxtoolsr_1.34.0.tar.gz PackageFileSize: 25.36 MiB