Package: paxtoolsr Version: 1.34.0 Command: rm -rf paxtoolsr.buildbin-libdir && mkdir paxtoolsr.buildbin-libdir && /Users/biocbuild/BBS/utils/build-universal.sh paxtoolsr_1.34.0.tar.gz /Library/Frameworks/R.framework/Resources/bin/R paxtoolsr.buildbin-libdir StartedAt: 2023-10-16 09:54:11 -0400 (Mon, 16 Oct 2023) EndedAt: 2023-10-16 09:54:47 -0400 (Mon, 16 Oct 2023) EllapsedTime: 35.1 seconds RetCode: 0 Status: OK PackageFile: paxtoolsr_1.34.0.tgz PackageFileSize: 25.53 MiB