Package: pathwayPCA Version: 1.16.1 Command: F:\biocbuild\bbs-3.17-bioc\R\bin\R.exe CMD check --no-multiarch --install=check:pathwayPCA.install-out.txt --library=F:\biocbuild\bbs-3.17-bioc\R\library --no-vignettes --timings pathwayPCA_1.16.1.tar.gz StartedAt: 2023-10-16 05:09:45 -0400 (Mon, 16 Oct 2023) EndedAt: 2023-10-16 05:12:19 -0400 (Mon, 16 Oct 2023) EllapsedTime: 153.8 seconds RetCode: 0 Status: OK CheckDir: pathwayPCA.Rcheck Warnings: 0