Package: pathwayPCA Version: 1.16.1 Command: rm -rf pathwayPCA.buildbin-libdir && mkdir pathwayPCA.buildbin-libdir && F:\biocbuild\bbs-3.17-bioc\R\bin\R.exe CMD INSTALL --build --library=pathwayPCA.buildbin-libdir pathwayPCA_1.16.1.tar.gz StartedAt: 2023-10-16 09:14:41 -0400 (Mon, 16 Oct 2023) EndedAt: 2023-10-16 09:15:02 -0400 (Mon, 16 Oct 2023) EllapsedTime: 20.6 seconds RetCode: 0 Status: OK PackageFile: pathwayPCA_1.16.1.zip PackageFileSize: 2.805 MiB