Package: pathwayPCA Version: 1.16.1 Command: /Library/Frameworks/R.framework/Resources/bin/R CMD INSTALL pathwayPCA StartedAt: 2023-10-15 16:13:37 -0400 (Sun, 15 Oct 2023) EndedAt: 2023-10-15 16:14:06 -0400 (Sun, 15 Oct 2023) EllapsedTime: 29.1 seconds RetCode: 0 Status: OK