Package: pathwayPCA Version: 1.16.1 Command: rm -rf pathwayPCA.buildbin-libdir && mkdir pathwayPCA.buildbin-libdir && /Users/biocbuild/BBS/utils/build-universal.sh pathwayPCA_1.16.1.tar.gz /Library/Frameworks/R.framework/Resources/bin/R pathwayPCA.buildbin-libdir StartedAt: 2023-10-16 09:54:11 -0400 (Mon, 16 Oct 2023) EndedAt: 2023-10-16 09:54:45 -0400 (Mon, 16 Oct 2023) EllapsedTime: 33.1 seconds RetCode: 0 Status: OK PackageFile: pathwayPCA_1.16.1.tgz PackageFileSize: 3.254 MiB