Package: pathVar Version: 1.30.0 Command: /Library/Frameworks/R.framework/Resources/bin/R CMD build --keep-empty-dirs --no-resave-data pathVar StartedAt: 2023-10-15 20:09:44 -0400 (Sun, 15 Oct 2023) EndedAt: 2023-10-15 20:15:39 -0400 (Sun, 15 Oct 2023) EllapsedTime: 355.2 seconds RetCode: 0 Status: OK PackageFile: pathVar_1.30.0.tar.gz PackageFileSize: 4.062 MiB