Package: parody Version: 1.58.0 Command: F:\biocbuild\bbs-3.17-bioc\R\bin\R.exe CMD check --no-multiarch --install=check:parody.install-out.txt --library=F:\biocbuild\bbs-3.17-bioc\R\library --no-vignettes --timings parody_1.58.0.tar.gz StartedAt: 2023-10-16 05:08:47 -0400 (Mon, 16 Oct 2023) EndedAt: 2023-10-16 05:09:14 -0400 (Mon, 16 Oct 2023) EllapsedTime: 26.6 seconds RetCode: 0 Status: OK CheckDir: parody.Rcheck Warnings: 0