Package: parody Version: 1.58.0 Command: /Library/Frameworks/R.framework/Resources/bin/R CMD INSTALL parody StartedAt: 2023-10-15 15:08:43 -0400 (Sun, 15 Oct 2023) EndedAt: 2023-10-15 15:09:28 -0400 (Sun, 15 Oct 2023) EllapsedTime: 44.8 seconds RetCode: 0 Status: OK