Package: parody Version: 1.58.0 Command: /Library/Frameworks/R.framework/Resources/bin/R CMD build --keep-empty-dirs --no-resave-data parody StartedAt: 2023-10-15 20:08:56 -0400 (Sun, 15 Oct 2023) EndedAt: 2023-10-15 20:09:36 -0400 (Sun, 15 Oct 2023) EllapsedTime: 40.3 seconds RetCode: 0 Status: OK PackageFile: parody_1.58.0.tar.gz PackageFileSize: 454.9 KiB