Package: parody Version: 1.58.0 Command: rm -rf parody.buildbin-libdir && mkdir parody.buildbin-libdir && /Users/biocbuild/BBS/utils/build-universal.sh parody_1.58.0.tar.gz /Library/Frameworks/R.framework/Resources/bin/R parody.buildbin-libdir StartedAt: 2023-10-16 09:53:56 -0400 (Mon, 16 Oct 2023) EndedAt: 2023-10-16 09:54:03 -0400 (Mon, 16 Oct 2023) EllapsedTime: 7.1 seconds RetCode: 0 Status: OK PackageFile: parody_1.58.0.tgz PackageFileSize: 497.4 KiB