Package: panp Version: 1.70.0 Command: F:\biocbuild\bbs-3.17-bioc\R\bin\R.exe CMD check --no-multiarch --install=check:panp.install-out.txt --library=F:\biocbuild\bbs-3.17-bioc\R\library --no-vignettes --timings panp_1.70.0.tar.gz StartedAt: 2023-10-16 05:07:26 -0400 (Mon, 16 Oct 2023) EndedAt: 2023-10-16 05:08:32 -0400 (Mon, 16 Oct 2023) EllapsedTime: 65.8 seconds RetCode: 0 Status: OK CheckDir: panp.Rcheck Warnings: 0