Package: panp Version: 1.70.0 Command: /Library/Frameworks/R.framework/Resources/bin/R CMD build --keep-empty-dirs --no-resave-data panp StartedAt: 2023-10-15 20:07:20 -0400 (Sun, 15 Oct 2023) EndedAt: 2023-10-15 20:08:33 -0400 (Sun, 15 Oct 2023) EllapsedTime: 73.8 seconds RetCode: 0 Status: OK PackageFile: panp_1.70.0.tar.gz PackageFileSize: 671.5 KiB