Package: pandaR Version: 1.32.0 Command: rm -rf pandaR.buildbin-libdir && mkdir pandaR.buildbin-libdir && F:\biocbuild\bbs-3.17-bioc\R\bin\R.exe CMD INSTALL --build --library=pandaR.buildbin-libdir pandaR_1.32.0.tar.gz StartedAt: 2023-10-16 09:14:14 -0400 (Mon, 16 Oct 2023) EndedAt: 2023-10-16 09:14:34 -0400 (Mon, 16 Oct 2023) EllapsedTime: 19.5 seconds RetCode: 0 Status: OK PackageFile: pandaR_1.32.0.zip PackageFileSize: 9.066 MiB