Package: pandaR Version: 1.32.0 Command: /home/biocbuild/bbs-3.17-bioc/R/bin/R CMD INSTALL pandaR StartedAt: 2023-10-15 15:13:50 -0400 (Sun, 15 Oct 2023) EndedAt: 2023-10-15 15:13:58 -0400 (Sun, 15 Oct 2023) EllapsedTime: 7.4 seconds RetCode: 0 Status: OK