Package: pandaR Version: 1.32.0 Command: /home/biocbuild/bbs-3.17-bioc/R/bin/R CMD check --install=check:pandaR.install-out.txt --library=/home/biocbuild/bbs-3.17-bioc/R/site-library --timings pandaR_1.32.0.tar.gz StartedAt: 2023-10-15 23:39:47 -0400 (Sun, 15 Oct 2023) EndedAt: 2023-10-15 23:43:14 -0400 (Sun, 15 Oct 2023) EllapsedTime: 207.3 seconds RetCode: 0 Status: WARNINGS CheckDir: pandaR.Rcheck Warnings: 2