Package: pandaR Version: 1.32.0 Command: /Library/Frameworks/R.framework/Resources/bin/R CMD INSTALL pandaR StartedAt: 2023-10-15 15:11:08 -0400 (Sun, 15 Oct 2023) EndedAt: 2023-10-15 15:11:34 -0400 (Sun, 15 Oct 2023) EllapsedTime: 26.7 seconds RetCode: 0 Status: OK