Package: pandaR Version: 1.32.0 Command: /Library/Frameworks/R.framework/Resources/bin/R CMD build --keep-empty-dirs --no-resave-data pandaR StartedAt: 2023-10-15 20:06:39 -0400 (Sun, 15 Oct 2023) EndedAt: 2023-10-15 20:08:56 -0400 (Sun, 15 Oct 2023) EllapsedTime: 136.2 seconds RetCode: 0 Status: OK PackageFile: pandaR_1.32.0.tar.gz PackageFileSize: 8.678 MiB