Package: pairkat Version: 1.6.0 Command: chmod a+r pairkat -R && F:\biocbuild\bbs-3.17-bioc\R\bin\R.exe CMD build --keep-empty-dirs --no-resave-data pairkat StartedAt: 2023-10-15 21:13:10 -0400 (Sun, 15 Oct 2023) EndedAt: 2023-10-15 21:15:03 -0400 (Sun, 15 Oct 2023) EllapsedTime: 113.7 seconds RetCode: 0 Status: OK PackageFile: pairkat_1.6.0.tar.gz PackageFileSize: 769.9 KiB