Package: pairkat Version: 1.6.0 Command: rm -rf pairkat.buildbin-libdir && mkdir pairkat.buildbin-libdir && F:\biocbuild\bbs-3.17-bioc\R\bin\R.exe CMD INSTALL --build --library=pairkat.buildbin-libdir pairkat_1.6.0.tar.gz StartedAt: 2023-10-16 09:14:13 -0400 (Mon, 16 Oct 2023) EndedAt: 2023-10-16 09:14:48 -0400 (Mon, 16 Oct 2023) EllapsedTime: 34.6 seconds RetCode: 0 Status: OK PackageFile: pairkat_1.6.0.zip PackageFileSize: 803.8 KiB