Package: pairkat Version: 1.6.0 Command: /home/biocbuild/bbs-3.17-bioc/R/bin/R CMD build --keep-empty-dirs --no-resave-data pairkat StartedAt: 2023-10-15 17:50:58 -0400 (Sun, 15 Oct 2023) EndedAt: 2023-10-15 17:55:29 -0400 (Sun, 15 Oct 2023) EllapsedTime: 270.7 seconds RetCode: 0 Status: OK PackageFile: pairkat_1.6.0.tar.gz PackageFileSize: 811.2 KiB