Package: pairkat Version: 1.6.0 Command: /Library/Frameworks/R.framework/Resources/bin/R CMD build --keep-empty-dirs --no-resave-data pairkat StartedAt: 2023-10-15 20:06:39 -0400 (Sun, 15 Oct 2023) EndedAt: 2023-10-15 20:13:17 -0400 (Sun, 15 Oct 2023) EllapsedTime: 397.8 seconds RetCode: 0 Status: OK PackageFile: pairkat_1.6.0.tar.gz PackageFileSize: 812.4 KiB