Package: pairedGSEA Version: 1.0.0 Command: F:\biocbuild\bbs-3.17-bioc\R\bin\R.exe CMD INSTALL pairedGSEA StartedAt: 2023-10-15 16:47:06 -0400 (Sun, 15 Oct 2023) EndedAt: 2023-10-15 16:47:45 -0400 (Sun, 15 Oct 2023) EllapsedTime: 38.6 seconds RetCode: 0 Status: OK