Package: pairedGSEA Version: 1.0.0 Command: chmod a+r pairedGSEA -R && F:\biocbuild\bbs-3.17-bioc\R\bin\R.exe CMD build --keep-empty-dirs --no-resave-data pairedGSEA StartedAt: 2023-10-15 21:13:06 -0400 (Sun, 15 Oct 2023) EndedAt: 2023-10-15 21:14:53 -0400 (Sun, 15 Oct 2023) EllapsedTime: 107.0 seconds RetCode: 0 Status: OK PackageFile: pairedGSEA_1.0.0.tar.gz PackageFileSize: 498.2 KiB