Package: pairedGSEA Version: 1.0.0 Command: rm -rf pairedGSEA.buildbin-libdir && mkdir pairedGSEA.buildbin-libdir && F:\biocbuild\bbs-3.17-bioc\R\bin\R.exe CMD INSTALL --build --library=pairedGSEA.buildbin-libdir pairedGSEA_1.0.0.tar.gz StartedAt: 2023-10-16 09:14:11 -0400 (Mon, 16 Oct 2023) EndedAt: 2023-10-16 09:14:53 -0400 (Mon, 16 Oct 2023) EllapsedTime: 41.7 seconds RetCode: 0 Status: OK PackageFile: pairedGSEA_1.0.0.zip PackageFileSize: 546.7 KiB